BEGIN:VCALENDAR
VERSION:2.0
PRODID:-//Regionalverband der Gartenfreunde Uecker-Randow e.V. - ECPv4.9.10//NONSGML v1.0//EN
CALSCALE:GREGORIAN
METHOD:PUBLISH
X-WR-CALNAME:Regionalverband der Gartenfreunde Uecker-Randow e.V.
X-ORIGINAL-URL:https://gartenfreunde-uer.de
X-WR-CALDESC:Veranstaltungen im Regionalverband der Gartenfreunde Uecker-Randow e.V.
BEGIN:VTIMEZONE
TZID:Europe/Berlin
BEGIN:DAYLIGHT
TZOFFSETFROM:+0100
TZOFFSETTO:+0200
TZNAME:CEST
DTSTART:20230326T010000
END:DAYLIGHT
BEGIN:STANDARD
TZOFFSETFROM:+0200
TZOFFSETTO:+0100
TZNAME:CET
DTSTART:20231029T010000
END:STANDARD
END:VTIMEZONE
BEGIN:VEVENT
DTSTART;TZID=Europe/Berlin:20231103T140000
DTEND;TZID=Europe/Berlin:20231103T140000
DTSTAMP:20260422T235734
CREATED:20231010T082202Z
LAST-MODIFIED:20231010T082202Z
UID:1148-1699020000-1699020000@gartenfreunde-uer.de
SUMMARY:Sitzung Geschäftsführender Vorstand
DESCRIPTION:
URL:https://gartenfreunde-uer.de/termin/sitzung-geschaeftsfuehrender-vorstand/
END:VEVENT
END:VCALENDAR