BEGIN:VCALENDAR
VERSION:2.0
PRODID:-//Regionalverband der Gartenfreunde Uecker-Randow e.V. - ECPv4.9.10//NONSGML v1.0//EN
CALSCALE:GREGORIAN
METHOD:PUBLISH
X-WR-CALNAME:Regionalverband der Gartenfreunde Uecker-Randow e.V.
X-ORIGINAL-URL:https://gartenfreunde-uer.de
X-WR-CALDESC:Veranstaltungen im Regionalverband der Gartenfreunde Uecker-Randow e.V.
BEGIN:VTIMEZONE
TZID:Europe/Berlin
BEGIN:DAYLIGHT
TZOFFSETFROM:+0100
TZOFFSETTO:+0200
TZNAME:CEST
DTSTART:20220327T010000
END:DAYLIGHT
BEGIN:STANDARD
TZOFFSETFROM:+0200
TZOFFSETTO:+0100
TZNAME:CET
DTSTART:20221030T010000
END:STANDARD
END:VTIMEZONE
BEGIN:VEVENT
DTSTART;VALUE=DATE:20220421
DTEND;VALUE=DATE:20220422
DTSTAMP:20260421T152340
CREATED:20220405T140537Z
LAST-MODIFIED:20220405T140612Z
UID:865-1650499200-1650585599@gartenfreunde-uer.de
SUMMARY:Meldeschluss Teilnahme am Beratungsgespräch mit RA Th. Schröder*
DESCRIPTION:(telefonisch oder per E-Mail)\n*max. 6 Vereine möglich \n
URL:https://gartenfreunde-uer.de/termin/meldeschluss-teilnahme-am-beratungsgespraech-mit-ra-th-schroeder/
END:VEVENT
END:VCALENDAR