BEGIN:VCALENDAR
VERSION:2.0
PRODID:-//Regionalverband der Gartenfreunde Uecker-Randow e.V. - ECPv4.9.10//NONSGML v1.0//EN
CALSCALE:GREGORIAN
METHOD:PUBLISH
X-WR-CALNAME:Regionalverband der Gartenfreunde Uecker-Randow e.V.
X-ORIGINAL-URL:https://gartenfreunde-uer.de
X-WR-CALDESC:Veranstaltungen im Regionalverband der Gartenfreunde Uecker-Randow e.V.
BEGIN:VTIMEZONE
TZID:Europe/Berlin
BEGIN:DAYLIGHT
TZOFFSETFROM:+0100
TZOFFSETTO:+0200
TZNAME:CEST
DTSTART:20210328T010000
END:DAYLIGHT
BEGIN:STANDARD
TZOFFSETFROM:+0200
TZOFFSETTO:+0100
TZNAME:CET
DTSTART:20211031T010000
END:STANDARD
END:VTIMEZONE
BEGIN:VEVENT
DTSTART;TZID=Europe/Berlin:20211118T160000
DTEND;TZID=Europe/Berlin:20211118T160000
DTSTAMP:20260421T095843
CREATED:20211015T124717Z
LAST-MODIFIED:20211015T124717Z
UID:798-1637251200-1637251200@gartenfreunde-uer.de
SUMMARY:Unterzeichnung Patenschaftsvertrag zw. RV und KITA der AWO „Wiesenspatzen“
DESCRIPTION:
URL:https://gartenfreunde-uer.de/termin/unterzeichnung-patenschaftsvertrag-zw-rv-und-kita-der-awo-wiesenspatzen/
END:VEVENT
END:VCALENDAR