BEGIN:VCALENDAR
VERSION:2.0
PRODID:-//Regionalverband der Gartenfreunde Uecker-Randow e.V. - ECPv4.9.10//NONSGML v1.0//EN
CALSCALE:GREGORIAN
METHOD:PUBLISH
X-WR-CALNAME:Regionalverband der Gartenfreunde Uecker-Randow e.V.
X-ORIGINAL-URL:https://gartenfreunde-uer.de
X-WR-CALDESC:Veranstaltungen im Regionalverband der Gartenfreunde Uecker-Randow e.V.
BEGIN:VTIMEZONE
TZID:Europe/Berlin
BEGIN:DAYLIGHT
TZOFFSETFROM:+0100
TZOFFSETTO:+0200
TZNAME:CEST
DTSTART:20200329T010000
END:DAYLIGHT
BEGIN:STANDARD
TZOFFSETFROM:+0200
TZOFFSETTO:+0100
TZNAME:CET
DTSTART:20201025T010000
END:STANDARD
END:VTIMEZONE
BEGIN:VEVENT
DTSTART;VALUE=DATE:20200920
DTEND;VALUE=DATE:20200921
DTSTAMP:20260422T022907
CREATED:20200903T064234Z
LAST-MODIFIED:20200903T064234Z
UID:593-1600560000-1600646399@gartenfreunde-uer.de
SUMMARY:Stichtag Kündigung Vereinsrechtschutzversicherung
DESCRIPTION:20.09. Stichtag Kündigung Vereinsrechtschutzversicherung \n
URL:https://gartenfreunde-uer.de/termin/stichtag-kuendigung-vereinsrechtschutzversicherung/
END:VEVENT
END:VCALENDAR