BEGIN:VCALENDAR
VERSION:2.0
PRODID:-//Regionalverband der Gartenfreunde Uecker-Randow e.V. - ECPv4.9.10//NONSGML v1.0//EN
CALSCALE:GREGORIAN
METHOD:PUBLISH
X-WR-CALNAME:Regionalverband der Gartenfreunde Uecker-Randow e.V.
X-ORIGINAL-URL:https://gartenfreunde-uer.de
X-WR-CALDESC:Veranstaltungen im Regionalverband der Gartenfreunde Uecker-Randow e.V.
BEGIN:VTIMEZONE
TZID:Europe/Berlin
BEGIN:DAYLIGHT
TZOFFSETFROM:+0100
TZOFFSETTO:+0200
TZNAME:CEST
DTSTART:20230326T010000
END:DAYLIGHT
BEGIN:STANDARD
TZOFFSETFROM:+0200
TZOFFSETTO:+0100
TZNAME:CET
DTSTART:20231029T010000
END:STANDARD
END:VTIMEZONE
BEGIN:VEVENT
DTSTART;TZID=Europe/Berlin:20230201T133000
DTEND;TZID=Europe/Berlin:20230201T133000
DTSTAMP:20260422T054010
CREATED:20230116T075202Z
LAST-MODIFIED:20230116T075530Z
UID:1042-1675258200-1675258200@gartenfreunde-uer.de
SUMMARY:Sprechtag Verbandsanwalt
DESCRIPTION:Zeitvorgabe nach Anmeldung! \n
URL:https://gartenfreunde-uer.de/termin/sprechtag-verbandsanwalt/
END:VEVENT
END:VCALENDAR