BEGIN:VCALENDAR
VERSION:2.0
PRODID:-//Regionalverband der Gartenfreunde Uecker-Randow e.V. - ECPv4.9.10//NONSGML v1.0//EN
CALSCALE:GREGORIAN
METHOD:PUBLISH
X-WR-CALNAME:Regionalverband der Gartenfreunde Uecker-Randow e.V.
X-ORIGINAL-URL:https://gartenfreunde-uer.de
X-WR-CALDESC:Veranstaltungen im Regionalverband der Gartenfreunde Uecker-Randow e.V.
BEGIN:VTIMEZONE
TZID:Europe/Berlin
BEGIN:DAYLIGHT
TZOFFSETFROM:+0100
TZOFFSETTO:+0200
TZNAME:CEST
DTSTART:20220327T010000
END:DAYLIGHT
BEGIN:STANDARD
TZOFFSETFROM:+0200
TZOFFSETTO:+0100
TZNAME:CET
DTSTART:20221030T010000
END:STANDARD
END:VTIMEZONE
BEGIN:VEVENT
DTSTART;TZID=Europe/Berlin:20220610T140000
DTEND;TZID=Europe/Berlin:20220610T140000
DTSTAMP:20260421T183012
CREATED:20220523T064441Z
LAST-MODIFIED:20220523T064441Z
UID:892-1654869600-1654869600@gartenfreunde-uer.de
SUMMARY:Sitzung Geschäftsführender Vorstand RV
DESCRIPTION:
URL:https://gartenfreunde-uer.de/termin/sitzung-geschaeftsfuehrender-vorstand-rv/
END:VEVENT
END:VCALENDAR