BEGIN:VCALENDAR
VERSION:2.0
PRODID:-//Regionalverband der Gartenfreunde Uecker-Randow e.V. - ECPv4.9.10//NONSGML v1.0//EN
CALSCALE:GREGORIAN
METHOD:PUBLISH
X-WR-CALNAME:Regionalverband der Gartenfreunde Uecker-Randow e.V.
X-ORIGINAL-URL:https://gartenfreunde-uer.de
X-WR-CALDESC:Veranstaltungen im Regionalverband der Gartenfreunde Uecker-Randow e.V.
BEGIN:VTIMEZONE
TZID:Europe/Berlin
BEGIN:DAYLIGHT
TZOFFSETFROM:+0100
TZOFFSETTO:+0200
TZNAME:CEST
DTSTART:20250330T010000
END:DAYLIGHT
BEGIN:STANDARD
TZOFFSETFROM:+0200
TZOFFSETTO:+0100
TZNAME:CET
DTSTART:20251026T010000
END:STANDARD
END:VTIMEZONE
BEGIN:VEVENT
DTSTART;TZID=Europe/Berlin:20250212T130000
DTEND;TZID=Europe/Berlin:20250212T130000
DTSTAMP:20260422T044418
CREATED:20250120T075620Z
LAST-MODIFIED:20250120T075620Z
UID:1318-1739365200-1739365200@gartenfreunde-uer.de
SUMMARY:Rechtsberatung GS
DESCRIPTION:
URL:https://gartenfreunde-uer.de/termin/rechtsberatung-gs/
END:VEVENT
END:VCALENDAR