BEGIN:VCALENDAR
VERSION:2.0
PRODID:-//Regionalverband der Gartenfreunde Uecker-Randow e.V. - ECPv4.9.10//NONSGML v1.0//EN
CALSCALE:GREGORIAN
METHOD:PUBLISH
X-WR-CALNAME:Regionalverband der Gartenfreunde Uecker-Randow e.V.
X-ORIGINAL-URL:https://gartenfreunde-uer.de
X-WR-CALDESC:Veranstaltungen im Regionalverband der Gartenfreunde Uecker-Randow e.V.
BEGIN:VTIMEZONE
TZID:Europe/Berlin
BEGIN:DAYLIGHT
TZOFFSETFROM:+0100
TZOFFSETTO:+0200
TZNAME:CEST
DTSTART:20210328T010000
END:DAYLIGHT
BEGIN:STANDARD
TZOFFSETFROM:+0200
TZOFFSETTO:+0100
TZNAME:CET
DTSTART:20211031T010000
END:STANDARD
END:VTIMEZONE
BEGIN:VEVENT
DTSTART;VALUE=DATE:20210131
DTEND;VALUE=DATE:20210201
DTSTAMP:20260421T213345
CREATED:20210112T093220Z
LAST-MODIFIED:20210112T093653Z
UID:690-1612051200-1612137599@gartenfreunde-uer.de
SUMMARY:Offene Versicherungs- und Mitgliedsbeiträge umgehend bezahlen!
DESCRIPTION:Offene Versicherungs- und Mitgliedsbeiträge umgehend bezahlen! \n
URL:https://gartenfreunde-uer.de/termin/offene-versicherungs-und-mitgliedsbeitraege-umgehend-bezahlen/
END:VEVENT
END:VCALENDAR