BEGIN:VCALENDAR
VERSION:2.0
PRODID:-//Regionalverband der Gartenfreunde Uecker-Randow e.V. - ECPv4.9.10//NONSGML v1.0//EN
CALSCALE:GREGORIAN
METHOD:PUBLISH
X-WR-CALNAME:Regionalverband der Gartenfreunde Uecker-Randow e.V.
X-ORIGINAL-URL:https://gartenfreunde-uer.de
X-WR-CALDESC:Veranstaltungen im Regionalverband der Gartenfreunde Uecker-Randow e.V.
BEGIN:VTIMEZONE
TZID:Europe/Berlin
BEGIN:DAYLIGHT
TZOFFSETFROM:+0100
TZOFFSETTO:+0200
TZNAME:CEST
DTSTART:20230326T010000
END:DAYLIGHT
BEGIN:STANDARD
TZOFFSETFROM:+0200
TZOFFSETTO:+0100
TZNAME:CET
DTSTART:20231029T010000
END:STANDARD
END:VTIMEZONE
BEGIN:VEVENT
DTSTART;TZID=Europe/Berlin:20230227T160000
DTEND;TZID=Europe/Berlin:20230227T160000
DTSTAMP:20260422T070612
CREATED:20230213T091331Z
LAST-MODIFIED:20230213T091331Z
UID:1051-1677513600-1677513600@gartenfreunde-uer.de
SUMMARY:öffentl. Kreistagssitzung zum Anschlusszwang in Pasewalk
DESCRIPTION:
URL:https://gartenfreunde-uer.de/termin/oeffentl-kreistagssitzung-zum-anschlusszwang-in-pasewalk/
END:VEVENT
END:VCALENDAR