BEGIN:VCALENDAR
VERSION:2.0
PRODID:-//Regionalverband der Gartenfreunde Uecker-Randow e.V. - ECPv4.9.10//NONSGML v1.0//EN
CALSCALE:GREGORIAN
METHOD:PUBLISH
X-WR-CALNAME:Regionalverband der Gartenfreunde Uecker-Randow e.V.
X-ORIGINAL-URL:https://gartenfreunde-uer.de
X-WR-CALDESC:Veranstaltungen im Regionalverband der Gartenfreunde Uecker-Randow e.V.
BEGIN:VTIMEZONE
TZID:Europe/Berlin
BEGIN:DAYLIGHT
TZOFFSETFROM:+0100
TZOFFSETTO:+0200
TZNAME:CEST
DTSTART:20220327T010000
END:DAYLIGHT
BEGIN:STANDARD
TZOFFSETFROM:+0200
TZOFFSETTO:+0100
TZNAME:CET
DTSTART:20221030T010000
END:STANDARD
END:VTIMEZONE
BEGIN:VEVENT
DTSTART;TZID=Europe/Berlin:20220402T093000
DTEND;TZID=Europe/Berlin:20220402T093000
DTSTAMP:20260421T140725
CREATED:20220314T090626Z
LAST-MODIFIED:20220314T090631Z
UID:851-1648891800-1648891800@gartenfreunde-uer.de
SUMMARY:Delegiertenkonferenz des Landesverbandes
DESCRIPTION:In Güstrow \n
URL:https://gartenfreunde-uer.de/termin/delegiertenkonferenz-des-landesverband/
END:VEVENT
END:VCALENDAR