BEGIN:VCALENDAR
VERSION:2.0
PRODID:-//Regionalverband der Gartenfreunde Uecker-Randow e.V. - ECPv4.9.10//NONSGML v1.0//EN
CALSCALE:GREGORIAN
METHOD:PUBLISH
X-WR-CALNAME:Regionalverband der Gartenfreunde Uecker-Randow e.V.
X-ORIGINAL-URL:https://gartenfreunde-uer.de
X-WR-CALDESC:Veranstaltungen im Regionalverband der Gartenfreunde Uecker-Randow e.V.
BEGIN:VTIMEZONE
TZID:Europe/Berlin
BEGIN:DAYLIGHT
TZOFFSETFROM:+0100
TZOFFSETTO:+0200
TZNAME:CEST
DTSTART:20240331T010000
END:DAYLIGHT
BEGIN:STANDARD
TZOFFSETFROM:+0200
TZOFFSETTO:+0100
TZNAME:CET
DTSTART:20241027T010000
END:STANDARD
END:VTIMEZONE
BEGIN:VEVENT
DTSTART;VALUE=DATE:20240525
DTEND;VALUE=DATE:20240526
DTSTAMP:20260420T215052
CREATED:20240422T082629Z
LAST-MODIFIED:20240422T082629Z
UID:1219-1716595200-1716681599@gartenfreunde-uer.de
SUMMARY:außerordentliche Delegiertenversammlung
DESCRIPTION:
URL:https://gartenfreunde-uer.de/termin/ausserordentliche-delegiertenversammlung/
END:VEVENT
END:VCALENDAR